BEGIN:VCALENDAR
VERSION:2.0
PRODID:-//NAMI Greater Boston - ECPv6.15.20//NONSGML v1.0//EN
CALSCALE:GREGORIAN
METHOD:PUBLISH
X-WR-CALNAME:NAMI Greater Boston
X-ORIGINAL-URL:https://namiboston.org
X-WR-CALDESC:Events for NAMI Greater Boston
REFRESH-INTERVAL;VALUE=DURATION:PT1H
X-Robots-Tag:noindex
X-PUBLISHED-TTL:PT1H
BEGIN:VTIMEZONE
TZID:America/New_York
BEGIN:DAYLIGHT
TZOFFSETFROM:-0500
TZOFFSETTO:-0400
TZNAME:EDT
DTSTART:20220313T070000
END:DAYLIGHT
BEGIN:STANDARD
TZOFFSETFROM:-0400
TZOFFSETTO:-0500
TZNAME:EST
DTSTART:20221106T060000
END:STANDARD
BEGIN:DAYLIGHT
TZOFFSETFROM:-0500
TZOFFSETTO:-0400
TZNAME:EDT
DTSTART:20230312T070000
END:DAYLIGHT
BEGIN:STANDARD
TZOFFSETFROM:-0400
TZOFFSETTO:-0500
TZNAME:EST
DTSTART:20231105T060000
END:STANDARD
BEGIN:DAYLIGHT
TZOFFSETFROM:-0500
TZOFFSETTO:-0400
TZNAME:EDT
DTSTART:20240310T070000
END:DAYLIGHT
BEGIN:STANDARD
TZOFFSETFROM:-0400
TZOFFSETTO:-0500
TZNAME:EST
DTSTART:20241103T060000
END:STANDARD
END:VTIMEZONE
BEGIN:VEVENT
DTSTART;TZID=America/New_York:20231205T190000
DTEND;TZID=America/New_York:20231205T204500
DTSTAMP:20260425T214643
CREATED:20230510T202301Z
LAST-MODIFIED:20230510T202301Z
UID:876-1701802800-1701809100@namiboston.org
SUMMARY:PSAN Peer Support Group
DESCRIPTION:
URL:https://namiboston.org/event/psan-peer-support-group-38/
CATEGORIES:Peer Meetings
END:VEVENT
BEGIN:VEVENT
DTSTART;TZID=America/New_York:20231207T180000
DTEND;TZID=America/New_York:20231207T193000
DTSTAMP:20260425T214643
CREATED:20230330T162850Z
LAST-MODIFIED:20230330T162850Z
UID:632-1701972000-1701977400@namiboston.org
SUMMARY:DMR SAN Family Support Group
DESCRIPTION:
URL:https://namiboston.org/event/dmr-san-family-support-group-9/
CATEGORIES:DMR Meetings
ORGANIZER;CN="DMR SAN":MAILTO:dmr@namiboston.org
END:VEVENT
BEGIN:VEVENT
DTSTART;TZID=America/New_York:20231212T110000
DTEND;TZID=America/New_York:20231212T124500
DTSTAMP:20260425T214643
CREATED:20230510T201507Z
LAST-MODIFIED:20230510T201507Z
UID:853-1702378800-1702385100@namiboston.org
SUMMARY:PSAN Peer Support Group
DESCRIPTION:
URL:https://namiboston.org/event/psan-peer-support-group-27/
CATEGORIES:Peer Meetings
END:VEVENT
BEGIN:VEVENT
DTSTART;TZID=America/New_York:20231215T080000
DTEND;TZID=America/New_York:20231215T180000
DTSTAMP:20260425T214643
CREATED:20230330T162621Z
LAST-MODIFIED:20230330T162621Z
UID:624-1702627200-1702663200@namiboston.org
SUMMARY:DMR Bi-Monthly meeting
DESCRIPTION:
URL:https://namiboston.org/event/dmr-bi-monthly-meeting-5/
CATEGORIES:DMR Meetings
END:VEVENT
BEGIN:VEVENT
DTSTART;TZID=America/New_York:20231219T190000
DTEND;TZID=America/New_York:20231219T204500
DTSTAMP:20260425T214643
CREATED:20230510T202322Z
LAST-MODIFIED:20230510T202322Z
UID:878-1703012400-1703018700@namiboston.org
SUMMARY:PSAN Peer Support Group
DESCRIPTION:
URL:https://namiboston.org/event/psan-peer-support-group-39/
CATEGORIES:Peer Meetings
END:VEVENT
BEGIN:VEVENT
DTSTART;TZID=America/New_York:20231220T183000
DTEND;TZID=America/New_York:20231220T200000
DTSTAMP:20260425T214643
CREATED:20230330T163823Z
LAST-MODIFIED:20230330T163823Z
UID:668-1703097000-1703102400@namiboston.org
SUMMARY:Latinx SAN - Grupo de Apoyo Familiar
DESCRIPTION:
URL:https://namiboston.org/event/latinx-san-grupo-de-apoyo-familiar-9/
CATEGORIES:Latinx Meetings
END:VEVENT
BEGIN:VEVENT
DTSTART;TZID=America/New_York:20231220T183000
DTEND;TZID=America/New_York:20231220T200000
DTSTAMP:20260425T214643
CREATED:20231127T053455Z
LAST-MODIFIED:20231128T202407Z
UID:915-1703097000-1703102400@namiboston.org
SUMMARY:Spanish Support Group for Caregivers
DESCRIPTION:Caregivers can send an email to latinx@namiboston.org or call 781-819-3282 for them to leave a message.
URL:https://namiboston.org/event/spanish-support-group-for-caregivers/
CATEGORIES:Latinx Meetings,Peer Meetings
END:VEVENT
BEGIN:VEVENT
DTSTART;TZID=America/New_York:20231226T110000
DTEND;TZID=America/New_York:20231226T124500
DTSTAMP:20260425T214643
CREATED:20230510T201523Z
LAST-MODIFIED:20230510T201523Z
UID:856-1703588400-1703594700@namiboston.org
SUMMARY:PSAN Peer Support Group
DESCRIPTION:
URL:https://namiboston.org/event/psan-peer-support-group-28/
CATEGORIES:Peer Meetings
END:VEVENT
END:VCALENDAR