BEGIN:VCALENDAR
VERSION:2.0
PRODID:-//NAMI Greater Boston - ECPv6.15.20//NONSGML v1.0//EN
CALSCALE:GREGORIAN
METHOD:PUBLISH
X-ORIGINAL-URL:https://namiboston.org
X-WR-CALDESC:Events for NAMI Greater Boston
REFRESH-INTERVAL;VALUE=DURATION:PT1H
X-Robots-Tag:noindex
X-PUBLISHED-TTL:PT1H
BEGIN:VTIMEZONE
TZID:America/New_York
BEGIN:DAYLIGHT
TZOFFSETFROM:-0500
TZOFFSETTO:-0400
TZNAME:EDT
DTSTART:20230312T070000
END:DAYLIGHT
BEGIN:STANDARD
TZOFFSETFROM:-0400
TZOFFSETTO:-0500
TZNAME:EST
DTSTART:20231105T060000
END:STANDARD
BEGIN:DAYLIGHT
TZOFFSETFROM:-0500
TZOFFSETTO:-0400
TZNAME:EDT
DTSTART:20240310T070000
END:DAYLIGHT
BEGIN:STANDARD
TZOFFSETFROM:-0400
TZOFFSETTO:-0500
TZNAME:EST
DTSTART:20241103T060000
END:STANDARD
BEGIN:DAYLIGHT
TZOFFSETFROM:-0500
TZOFFSETTO:-0400
TZNAME:EDT
DTSTART:20250309T070000
END:DAYLIGHT
BEGIN:STANDARD
TZOFFSETFROM:-0400
TZOFFSETTO:-0500
TZNAME:EST
DTSTART:20251102T060000
END:STANDARD
END:VTIMEZONE
BEGIN:VEVENT
DTSTART;TZID=America/New_York:20241107T183000
DTEND;TZID=America/New_York:20241107T193000
DTSTAMP:20260425T104932
CREATED:20241024T223559Z
LAST-MODIFIED:20241024T223559Z
UID:973-1731004200-1731007800@namiboston.org
SUMMARY:PSAN Recovery Speaker Series - Michael Siena
DESCRIPTION:Biography – Michael Siena\n \nI grew up in Connecticut and moved to the Boston area in 1994 to go to school at Tufts University. I left Tufts during my junior year in 1996 due to experiencing emotional distress and extreme states. I returned and graduated in 2004 with a degree in philosophy. \nDue to a lot of work on my recovery that continues on a daily basis\, I have a full and satisfying life today. I continue to experience emotional distress and extreme states at times but they are less frequent\, less intense and last for less time. I also continue to experience personal growth through my recovery\, as well. \nI enjoy many pursuits including skateboarding\, snowboarding\, hiking\, reading\, writing\, connecting with friends and family and watching basketball. I have been working as a peer specialist for about ten years and feel grateful to have a challenging and fulfilling job. I am also pursuing a recovery coach certification. \nLife can still be difficult and painful at times. I seek to overcome the challenges of life as I reach out for support\, use coping skills\, engage in prayer\, meditation\, spiritual reading and practicing spiritual principles. Maybe most importantly\, I try to put one foot in front of the other\, doing the next right thing regardless of how I feel. As I continue to try to do my best each day\, I see life working out and becoming more beautiful. \nAbout the presentation \nMy talk will start with my recovery story followed by an in-depth description of my work within the Metro Boston Recovery Learning Community (MBRLC) over the last ten plus years. I will cover working on the Peer Support Line as well as working at the Boston Resource Center\, giving details of the tools\, resources and challenges involved with working in both settings. At the end of the talk\, I will go over some things I have learned over the years working in the MBRLC and as a person in recovery. \nJoin Zoom Meeting\nhttps://bostonmedicalcenter.zoom.us/j/96984874345 \nMeeting ID: 969 8487 4345\nOne tap mobile\n+16465588656\,\,96984874345# US (New York)\n+13017158592\,\,96984874345# US (Germantown) \nDial by your location\n+1 646 558 8656 US (New York)\n+1 301 715 8592 US (Germantown)
URL:https://namiboston.org/event/psan-recovery-speaker-series-michael-siena/
CATEGORIES:Peer Meetings,Speaker Series
END:VEVENT
BEGIN:VEVENT
DTSTART;TZID=America/New_York:20241120T183000
DTEND;TZID=America/New_York:20241120T200000
DTSTAMP:20260425T104932
CREATED:20241031T182617Z
LAST-MODIFIED:20241031T183104Z
UID:977-1732127400-1732132800@namiboston.org
SUMMARY:Latinx SAN - Grupo de Apoyo Familiar
DESCRIPTION:Compañeros de vivencia pueden mandar un correo electrónico a latinx@namiboston.org o llamar 781-819-3282 para dejar un mensaje.
URL:https://namiboston.org/event/latinx-san-grupo-de-apoyo-familiar-10/
CATEGORIES:Latinx Meetings
END:VEVENT
END:VCALENDAR