BEGIN:VCALENDAR
VERSION:2.0
PRODID:-//NAMI Greater Boston - ECPv6.15.20//NONSGML v1.0//EN
CALSCALE:GREGORIAN
METHOD:PUBLISH
X-WR-CALNAME:NAMI Greater Boston
X-ORIGINAL-URL:https://namiboston.org
X-WR-CALDESC:Events for NAMI Greater Boston
REFRESH-INTERVAL;VALUE=DURATION:PT1H
X-Robots-Tag:noindex
X-PUBLISHED-TTL:PT1H
BEGIN:VTIMEZONE
TZID:America/New_York
BEGIN:DAYLIGHT
TZOFFSETFROM:-0500
TZOFFSETTO:-0400
TZNAME:EDT
DTSTART:20230312T070000
END:DAYLIGHT
BEGIN:STANDARD
TZOFFSETFROM:-0400
TZOFFSETTO:-0500
TZNAME:EST
DTSTART:20231105T060000
END:STANDARD
BEGIN:DAYLIGHT
TZOFFSETFROM:-0500
TZOFFSETTO:-0400
TZNAME:EDT
DTSTART:20240310T070000
END:DAYLIGHT
BEGIN:STANDARD
TZOFFSETFROM:-0400
TZOFFSETTO:-0500
TZNAME:EST
DTSTART:20241103T060000
END:STANDARD
BEGIN:DAYLIGHT
TZOFFSETFROM:-0500
TZOFFSETTO:-0400
TZNAME:EDT
DTSTART:20250309T070000
END:DAYLIGHT
BEGIN:STANDARD
TZOFFSETFROM:-0400
TZOFFSETTO:-0500
TZNAME:EST
DTSTART:20251102T060000
END:STANDARD
END:VTIMEZONE
BEGIN:VEVENT
DTSTART;TZID=America/New_York:20241205T183000
DTEND;TZID=America/New_York:20241205T193000
DTSTAMP:20260425T073826
CREATED:20241204T002238Z
LAST-MODIFIED:20241204T002238Z
UID:1011-1733423400-1733427000@namiboston.org
SUMMARY:PSAN Recovery Speaker Series - Justin
DESCRIPTION:Biography – Justin\n \nI grew up in the small town of Duxbury\, located on the South Shore of Massachusetts. I have since moved to Fall River and I am currently the Program Director at the Fall River Recovery Connection Center. I have been in recovery since 2010\, and I worked at the Atlantic Clubhouse in Quincy from 2022-2024 before taking my current position. I have been at the Fall River RCC since June of this year and have been enjoying my time getting to know the peers who make our program so wonderful. I am able to spend time in each of the special groups that our RCC has to offer\, and I have also got to know the amazing staff that we have. I completed my CPS Training through Kiva Centers in the beginning of September and will always value all of the tools and knowledge that I gained from that program. I graduated from Quincy College in 2018 with an associate’s degree in liberal arts with a focus in Behavioral Science. I was drawn to the Recovery Connection Center because of my belief that groups and peer engagement can play a vital role in anybody’s recovery. I enjoy spending time with loved ones\, listening to my favorite music on repeat\, and taking photographs while immersed in nature. \nAbout the presentation \nMy talk will begin with my recovery story to help illustrate the challenges I have faced since receiving my original diagnosis. I will then speak about my transition from working in a clubhouse setting to a recovery setting. I will include the tools I use daily to maintain my positive mentality\, along with the tools and mindset I use while working amongst my peers. I will also talk about the success of our program before I became the program director\, and the steps I am taking to maintain its effectiveness. I will conclude my talk with what I hope to learn and build throughout my time at our Recovery Connection Center and the encouraging effect it has had in my life since being there in June of this year. \nJoin Zoom Meeting\nhttps://bostonmedicalcenter.zoom.us/j/96984874345 \nMeeting ID: 969 8487 4345\nOne tap mobile\n+16465588656\,\,96984874345# US (New York)\n+13017158592\,\,96984874345# US (Germantown) \nDial by your location\n+1 646 558 8656 US (New York)\n+1 301 715 8592 US (Germantown)
URL:https://namiboston.org/event/psan-recovery-speaker-series-justin/
CATEGORIES:Peer Meetings,Speaker Series
END:VEVENT
BEGIN:VEVENT
DTSTART;TZID=America/New_York:20241218T183000
DTEND;TZID=America/New_York:20241218T200000
DTSTAMP:20260425T073826
CREATED:20241031T182938Z
LAST-MODIFIED:20241031T183120Z
UID:981-1734546600-1734552000@namiboston.org
SUMMARY:Latinx SAN - Grupo de Apoyo Familiar
DESCRIPTION:Compañeros de vivencia pueden mandar un correo electrónico a latinx@namiboston.org o llamar 781-819-3282 para dejar un mensaje.
URL:https://namiboston.org/event/latinx-san-grupo-de-apoyo-familiar-11/
CATEGORIES:Latinx Meetings
END:VEVENT
END:VCALENDAR