BEGIN:VCALENDAR
VERSION:2.0
PRODID:-//NAMI Greater Boston - ECPv6.15.20//NONSGML v1.0//EN
CALSCALE:GREGORIAN
METHOD:PUBLISH
X-WR-CALNAME:NAMI Greater Boston
X-ORIGINAL-URL:https://namiboston.org
X-WR-CALDESC:Events for NAMI Greater Boston
REFRESH-INTERVAL;VALUE=DURATION:PT1H
X-Robots-Tag:noindex
X-PUBLISHED-TTL:PT1H
BEGIN:VTIMEZONE
TZID:America/New_York
BEGIN:DAYLIGHT
TZOFFSETFROM:-0500
TZOFFSETTO:-0400
TZNAME:EDT
DTSTART:20240310T070000
END:DAYLIGHT
BEGIN:STANDARD
TZOFFSETFROM:-0400
TZOFFSETTO:-0500
TZNAME:EST
DTSTART:20241103T060000
END:STANDARD
BEGIN:DAYLIGHT
TZOFFSETFROM:-0500
TZOFFSETTO:-0400
TZNAME:EDT
DTSTART:20250309T070000
END:DAYLIGHT
BEGIN:STANDARD
TZOFFSETFROM:-0400
TZOFFSETTO:-0500
TZNAME:EST
DTSTART:20251102T060000
END:STANDARD
BEGIN:DAYLIGHT
TZOFFSETFROM:-0500
TZOFFSETTO:-0400
TZNAME:EDT
DTSTART:20260308T070000
END:DAYLIGHT
BEGIN:STANDARD
TZOFFSETFROM:-0400
TZOFFSETTO:-0500
TZNAME:EST
DTSTART:20261101T060000
END:STANDARD
END:VTIMEZONE
BEGIN:VEVENT
DTSTART;TZID=America/New_York:20250306T183000
DTEND;TZID=America/New_York:20250306T193000
DTSTAMP:20260423T101640
CREATED:20241219T213052Z
LAST-MODIFIED:20250221T215914Z
UID:1014-1741285800-1741289400@namiboston.org
SUMMARY:PSAN Recovery Speaker Series - Chris Laureano
DESCRIPTION:Biography – Chris\n \nChristopher Laureano is a Certified Peer Specialist and Director of the Recovery Education and Learning (REAL) Program at Bay Cove Human Services. Christopher is an autistic person who has also experienced anxiety and trauma through various life situations due to having trouble with reading social cues and learning differently from others. He is passionate about both making peer support trainings and the REAL Program equitable and accessible for all\, and including neurodiversity in peer support. Chris will be speaking about the importance of ‘breaking the cycle’ when overcoming anxiety\, trauma\, and life challenges with living as an autistic person\, along with the importance of ‘self-evolvement’ in recovery.\n \nAbout the presentation \nChristopher Laureano will be sharing his recovery story and discussing his work as the Director of the Recovery Education and Learning (REAL) Program at Bay Cove Human Services\, which offers both in-person trainings at the fifth floor of Center Club\, and online trainings through the Zoom app with the purpose of preparing people for the workforce in human services. Christopher will also be sharing information on expansion developments of the REAL Program.\n \nJoin Zoom Meeting\nhttps://bostonmedicalcenter.zoom.us/j/96984874345 \nMeeting ID: 969 8487 4345\nOne tap mobile\n+16465588656\,\,96984874345# US (New York)\n+13017158592\,\,96984874345# US (Germantown) \nDial by your location\n+1 646 558 8656 US (New York)\n+1 301 715 8592 US (Germantown)
URL:https://namiboston.org/event/psan-recovery-speaker-series-chris/
CATEGORIES:Peer Meetings,Speaker Series
END:VEVENT
BEGIN:VEVENT
DTSTART;TZID=America/New_York:20250319T183000
DTEND;TZID=America/New_York:20250319T200000
DTSTAMP:20260423T101640
CREATED:20241031T183225Z
LAST-MODIFIED:20241031T183225Z
UID:987-1742409000-1742414400@namiboston.org
SUMMARY:Latinx SAN - Grupo de Apoyo Familiar
DESCRIPTION:Compañeros de vivencia pueden mandar un correo electrónico a latinx@namiboston.org o llamar 781-819-3282 para dejar un mensaje.
URL:https://namiboston.org/event/latinx-san-grupo-de-apoyo-familiar-14/
CATEGORIES:Latinx Meetings
END:VEVENT
END:VCALENDAR